BEGIN:VCALENDAR
METHOD:REQUEST
PRODID:-//events.orgNONSGML ical.net 4.0//EN
VERSION:2.0
BEGIN:VEVENT
DTEND;VALUE=DATE:20261119
DTSTAMP:20260424T092617Z
DTSTART;VALUE=DATE:20261119
LOCATION:The Parkway Theater\, Minneapolis
ORGANIZER;CN=:mailto:events@events.org
SEQUENCE:0
SUMMARY:Davide De Pierro
UID:f378f2e9-5791-46a1-901a-8c83db1488b8
URL:https://events.org/e/Davide-De-Pierro/LVYKONN9
BEGIN:VALARM
ACTION:DISPLAY
SUMMARY:Reminder
TRIGGER:-P1D
END:VALARM
END:VEVENT
END:VCALENDAR
