BEGIN:VCALENDAR
METHOD:REQUEST
PRODID:-//events.orgNONSGML ical.net 4.0//EN
VERSION:2.0
BEGIN:VEVENT
DTEND;VALUE=DATE:20260523
DTSTAMP:20260422T094715Z
DTSTART;VALUE=DATE:20260523
LOCATION:Garcia's Chicago\, Chicago
ORGANIZER;CN=:mailto:events@events.org
SEQUENCE:0
SUMMARY:Kurt Rosenwinkel
UID:03eed631-52c2-4f40-a859-7f0cc8c2f824
URL:https://events.org/e/Kurt-Rosenwinkel/X5QC6X83
BEGIN:VALARM
ACTION:DISPLAY
SUMMARY:Reminder
TRIGGER:-P1D
END:VALARM
END:VEVENT
END:VCALENDAR
