BEGIN:VCALENDAR
METHOD:REQUEST
PRODID:-//events.orgNONSGML ical.net 4.0//EN
VERSION:2.0
BEGIN:VEVENT
DTEND;VALUE=DATE:20260620
DTSTAMP:20260422T085300Z
DTSTART;VALUE=DATE:20260620
LOCATION:Dudley Riggs Theatre\, Minneapolis
ORGANIZER;CN=:mailto:events@events.org
SEQUENCE:0
SUMMARY:Battle of the Improv All-Stars 2026
UID:c05642fe-ea50-4bae-853b-7ee2de41d19f
URL:https://events.org/e/Battle-of-the-Improv-All-Stars-2026/SCIMSKNO
BEGIN:VALARM
ACTION:DISPLAY
SUMMARY:Reminder
TRIGGER:-P1D
END:VALARM
END:VEVENT
END:VCALENDAR
