BEGIN:VCALENDAR
METHOD:REQUEST
PRODID:-//events.orgNONSGML ical.net 4.0//EN
VERSION:2.0
BEGIN:VEVENT
DTEND;VALUE=DATE:20260731
DTSTAMP:20260424T092107Z
DTSTART;VALUE=DATE:20260731
LOCATION:The Foundry\, Philadelphia
ORGANIZER;CN=:mailto:events@events.org
SEQUENCE:0
SUMMARY:The Word Alive - The Deceiver & Dark Matter Anniversary Tour
UID:c75a33c6-de04-41e6-969f-01b7fe6c2f3f
URL:https://events.org/e/The-Word-Alive---The-Deceiver-Dark-Matter-Ann/N5Q
 C46VT
BEGIN:VALARM
ACTION:DISPLAY
SUMMARY:Reminder
TRIGGER:-P1D
END:VALARM
END:VEVENT
END:VCALENDAR
