BEGIN:VCALENDAR
METHOD:REQUEST
PRODID:-//events.orgNONSGML ical.net 4.0//EN
VERSION:2.0
BEGIN:VEVENT
DTEND;VALUE=DATE:20260705
DTSTAMP:20260421T103624Z
DTSTART;VALUE=DATE:20260705
LOCATION:Phantom Lounge and Nightclub\, San Diego
ORGANIZER;CN=:mailto:events@events.org
SEQUENCE:0
SUMMARY:Extreme Dwarfanator Wrestling
UID:2052986a-d38c-432f-852c-70fb839a9e98
URL:https://events.org/e/Extreme-Dwarfanator-Wrestling/265L9DD9
BEGIN:VALARM
ACTION:DISPLAY
SUMMARY:Reminder
TRIGGER:-P1D
END:VALARM
END:VEVENT
END:VCALENDAR
