BEGIN:VCALENDAR
METHOD:REQUEST
PRODID:-//events.orgNONSGML ical.net 4.0//EN
VERSION:2.0
BEGIN:VEVENT
DTEND;VALUE=DATE:20260925
DTSTAMP:20260423T133342Z
DTSTART;VALUE=DATE:20260925
LOCATION:Music Hall Center\, Detroit
ORGANIZER;CN=:mailto:events@events.org
SEQUENCE:0
SUMMARY:World Ballet Company: Swan Lake with LIVE Orchestra
UID:49da9f96-9fa2-4d51-b0a2-4f9f419a2f6a
URL:https://events.org/e/World-Ballet-Company-Swan-Lake-with-LIVE-Orchestr
 a/NLTTGS53
BEGIN:VALARM
ACTION:DISPLAY
SUMMARY:Reminder
TRIGGER:-P1D
END:VALARM
END:VEVENT
END:VCALENDAR
