BEGIN:VCALENDAR
METHOD:REQUEST
PRODID:-//events.orgNONSGML ical.net 4.0//EN
VERSION:2.0
BEGIN:VEVENT
DTEND;VALUE=DATE:20260903
DTSTAMP:20260424T092547Z
DTSTART;VALUE=DATE:20260903
LOCATION:Underground Arts\, Philadelphia
ORGANIZER;CN=:mailto:events@events.org
SEQUENCE:0
SUMMARY:Emarosa with VEAUX (21+ Event)
UID:409ef873-0fd4-44aa-a422-3d25ce21bae2
URL:https://events.org/e/Emarosa-with-VEAUX-21-Event/EIGK9LID
BEGIN:VALARM
ACTION:DISPLAY
SUMMARY:Reminder
TRIGGER:-P1D
END:VALARM
END:VEVENT
END:VCALENDAR
