BEGIN:VCALENDAR
METHOD:REQUEST
PRODID:-//events.orgNONSGML ical.net 4.0//EN
VERSION:2.0
BEGIN:VEVENT
DTEND;VALUE=DATE:20260430
DTSTAMP:20260423T134837Z
DTSTART;VALUE=DATE:20260430
LOCATION:Marquis\, Denver
ORGANIZER;CN=:mailto:events@events.org
SEQUENCE:0
SUMMARY:Sha Crow
UID:8aa03162-69a6-4455-9f0b-5955307a4b3e
URL:https://events.org/e/Sha-Crow/VIJXQPQY
BEGIN:VALARM
ACTION:DISPLAY
SUMMARY:Reminder
TRIGGER:-P1D
END:VALARM
END:VEVENT
END:VCALENDAR
