BEGIN:VCALENDAR
METHOD:REQUEST
PRODID:-//events.orgNONSGML ical.net 4.0//EN
VERSION:2.0
BEGIN:VEVENT
DTEND;VALUE=DATE:20260509
DTSTAMP:20260421T095110Z
DTSTART;VALUE=DATE:20260509
LOCATION:Audi Field\, Washington
ORGANIZER;CN=:mailto:events@events.org
SEQUENCE:0
SUMMARY:DC Defenders vs. Louisville Kings
UID:7341bdf4-7796-4799-ae61-0e5b524bafcc
URL:https://events.org/e/DC-Defenders-vs-Louisville-Kings/JGUTHU5G
BEGIN:VALARM
ACTION:DISPLAY
SUMMARY:Reminder
TRIGGER:-P1D
END:VALARM
END:VEVENT
END:VCALENDAR
