BEGIN:VCALENDAR
METHOD:REQUEST
PRODID:-//events.orgNONSGML ical.net 4.0//EN
VERSION:2.0
BEGIN:VEVENT
DTEND;VALUE=DATE:20260425
DTSTAMP:20260419T142313Z
DTSTART;VALUE=DATE:20260425
LOCATION:Cubby Bear\, Chicago
ORGANIZER;CN=:mailto:events@events.org
SEQUENCE:0
SUMMARY:Naturosynth w/ Secret Menu\, Surf Cowboy
UID:8ac4f9ed-173a-4a93-a7b3-3cbaa27ff799
URL:https://events.org/e/Naturosynth-w-Secret-Menu-Surf-Cowboy/QXRM3B7G
BEGIN:VALARM
ACTION:DISPLAY
SUMMARY:Reminder
TRIGGER:-P1D
END:VALARM
END:VEVENT
END:VCALENDAR
