BEGIN:VCALENDAR
METHOD:REQUEST
PRODID:-//events.orgNONSGML ical.net 4.0//EN
VERSION:2.0
BEGIN:VEVENT
DTEND;VALUE=DATE:20260521
DTSTAMP:20260422T090302Z
DTSTART;VALUE=DATE:20260521
LOCATION:Cadillac Palace\, Chicago
ORGANIZER;CN=:mailto:events@events.org
SEQUENCE:0
SUMMARY:Les Miserables (Chicago)
UID:d8d7d885-e4c0-4ddc-96fe-3032e3e4d66b
URL:https://events.org/e/Les-Miserables-Chicago/DBQ6FMQP
BEGIN:VALARM
ACTION:DISPLAY
SUMMARY:Reminder
TRIGGER:-P1D
END:VALARM
END:VEVENT
END:VCALENDAR
