BEGIN:VCALENDAR
METHOD:REQUEST
PRODID:-//events.orgNONSGML ical.net 4.0//EN
VERSION:2.0
BEGIN:VEVENT
DTEND;VALUE=DATE:20260427
DTSTAMP:20260424T080429Z
DTSTART;VALUE=DATE:20260427
LOCATION:Iridium\, New York
ORGANIZER;CN=:mailto:events@events.org
SEQUENCE:0
SUMMARY:Uli Jon Roth
UID:739156c3-17be-4534-8bc0-3d2006cc669a
URL:https://events.org/e/Uli-Jon-Roth/7R2JB8TW
BEGIN:VALARM
ACTION:DISPLAY
SUMMARY:Reminder
TRIGGER:-P1D
END:VALARM
END:VEVENT
END:VCALENDAR
