BEGIN:VCALENDAR
METHOD:REQUEST
PRODID:-//events.orgNONSGML ical.net 4.0//EN
VERSION:2.0
BEGIN:VEVENT
DTEND;VALUE=DATE:20260620
DTSTAMP:20260421T104532Z
DTSTART;VALUE=DATE:20260620
LOCATION:Theatre of Living Arts\, Philadelphia
ORGANIZER;CN=:mailto:events@events.org
SEQUENCE:0
SUMMARY:Noise Complaints Presents: The Late Night R&B Experience Tour (21+)
UID:139df38c-a756-4222-95f6-f6dc0afb4c48
URL:https://events.org/e/Noise-Complaints-Presents-The-Late-Night-RB-E/KXJ
 86GMQ
BEGIN:VALARM
ACTION:DISPLAY
SUMMARY:Reminder
TRIGGER:-P1D
END:VALARM
END:VEVENT
END:VCALENDAR
