BEGIN:VCALENDAR
METHOD:REQUEST
PRODID:-//events.orgNONSGML ical.net 4.0//EN
VERSION:2.0
BEGIN:VEVENT
DTEND;VALUE=DATE:20260530
DTSTAMP:20260422T091347Z
DTSTART;VALUE=DATE:20260530
LOCATION:Mission Ballroom\, Denver
ORGANIZER;CN=:mailto:events@events.org
SEQUENCE:0
SUMMARY:HOL! (16 and Over)
UID:015cf263-780c-413e-be6e-09bdff516db2
URL:https://events.org/e/HOL-16-and-Over/3B4Q7UDN
BEGIN:VALARM
ACTION:DISPLAY
SUMMARY:Reminder
TRIGGER:-P1D
END:VALARM
END:VEVENT
END:VCALENDAR
