BEGIN:VCALENDAR
METHOD:REQUEST
PRODID:-//events.orgNONSGML ical.net 4.0//EN
VERSION:2.0
BEGIN:VEVENT
DTEND;VALUE=DATE:20260524
DTSTAMP:20260422T085407Z
DTSTART;VALUE=DATE:20260524
LOCATION:Chicago Architecture Center - First Lady\, Chicago
ORGANIZER;CN=:mailto:events@events.org
SEQUENCE:0
SUMMARY:Chicago Architecture Center River Cruise Aboard First Lady
UID:cb8eb952-4dda-4908-beb2-9d8842b146c6
URL:https://events.org/e/Chicago-Architecture-Center-River-Cruise-Aboa/9EK
 ISN7A
BEGIN:VALARM
ACTION:DISPLAY
SUMMARY:Reminder
TRIGGER:-P1D
END:VALARM
END:VEVENT
END:VCALENDAR
