BEGIN:VCALENDAR
METHOD:REQUEST
PRODID:-//events.orgNONSGML ical.net 4.0//EN
VERSION:2.0
BEGIN:VEVENT
DTEND;VALUE=DATE:20260715
DTSTAMP:20260423T133631Z
DTSTART;VALUE=DATE:20260715
LOCATION:Cal Coast Credit Union Open Air Theatre at SDSU\, San Diego
ORGANIZER;CN=:mailto:events@events.org
SEQUENCE:0
SUMMARY:Young the Giant - Victory Garden Tour with Cold War Kids
UID:eb0ada54-8745-42cb-97c2-62593ea3eae7
URL:https://events.org/e/Young-the-Giant---Victory-Garden-Tour-with-Co/WNS
 AM87I
BEGIN:VALARM
ACTION:DISPLAY
SUMMARY:Reminder
TRIGGER:-P1D
END:VALARM
END:VEVENT
END:VCALENDAR
