BEGIN:VCALENDAR
METHOD:REQUEST
PRODID:-//events.orgNONSGML ical.net 4.0//EN
VERSION:2.0
BEGIN:VEVENT
DTEND;VALUE=DATE:20260711
DTSTAMP:20260422T085137Z
DTSTART;VALUE=DATE:20260711
LOCATION:Dudley Riggs Theatre\, Minneapolis
ORGANIZER;CN=:mailto:events@events.org
SEQUENCE:0
SUMMARY:Battle of the Improv All-Stars 2026
UID:3fc323ff-e925-48fc-8e4d-1bb12518df07
URL:https://events.org/e/Battle-of-the-Improv-All-Stars-2026/T2FM66E7
BEGIN:VALARM
ACTION:DISPLAY
SUMMARY:Reminder
TRIGGER:-P1D
END:VALARM
END:VEVENT
END:VCALENDAR
