BEGIN:VCALENDAR
METHOD:REQUEST
PRODID:-//events.orgNONSGML ical.net 4.0//EN
VERSION:2.0
BEGIN:VEVENT
DTEND;VALUE=DATE:20260806
DTSTAMP:20260422T090851Z
DTSTART;VALUE=DATE:20260806
LOCATION:Punch Line Houston\, Houston
ORGANIZER;CN=:mailto:events@events.org
SEQUENCE:0
SUMMARY:Zac Townsend
UID:261b808f-c291-4b59-987b-1fbcbaeaaeb8
URL:https://events.org/e/Zac-Townsend/REA8WJTB
BEGIN:VALARM
ACTION:DISPLAY
SUMMARY:Reminder
TRIGGER:-P1D
END:VALARM
END:VEVENT
END:VCALENDAR
