BEGIN:VCALENDAR
METHOD:REQUEST
PRODID:-//events.orgNONSGML ical.net 4.0//EN
VERSION:2.0
BEGIN:VEVENT
DTEND;VALUE=DATE:20260425
DTSTAMP:20260422T085534Z
DTSTART;VALUE=DATE:20260425
LOCATION:Bowery Ballroom\, New York
ORGANIZER;CN=:mailto:events@events.org
SEQUENCE:0
SUMMARY:Broncho: Just Enough Hip to Be Woman
UID:969ce669-f6d9-4b21-bebe-e7ce3ad6d1e2
URL:https://events.org/e/Broncho-Just-Enough-Hip-to-Be-Woman/T67TH28D
BEGIN:VALARM
ACTION:DISPLAY
SUMMARY:Reminder
TRIGGER:-P1D
END:VALARM
END:VEVENT
END:VCALENDAR
