BEGIN:VCALENDAR
METHOD:REQUEST
PRODID:-//events.orgNONSGML ical.net 4.0//EN
VERSION:2.0
BEGIN:VEVENT
DTEND;VALUE=DATE:20260628
DTSTAMP:20260419T130352Z
DTSTART;VALUE=DATE:20260628
LOCATION:Chase Center\, San Francisco
ORGANIZER;CN=:mailto:events@events.org
SEQUENCE:0
SUMMARY:Golden State Valkyries vs. New York Liberty
UID:0e621ec6-710f-4f23-a499-8e4d5e67c963
URL:https://events.org/e/Golden-State-Valkyries-vs-New-York-Liberty/VI4GYT
 3H
BEGIN:VALARM
ACTION:DISPLAY
SUMMARY:Reminder
TRIGGER:-P1D
END:VALARM
END:VEVENT
END:VCALENDAR
