BEGIN:VCALENDAR
METHOD:REQUEST
PRODID:-//events.orgNONSGML ical.net 4.0//EN
VERSION:2.0
BEGIN:VEVENT
DTEND;VALUE=DATE:20260711
DTSTAMP:20260421T104316Z
DTSTART;VALUE=DATE:20260711
LOCATION:Voodoo Room at the House of Blues San Diego\, San Diego
ORGANIZER;CN=:mailto:events@events.org
SEQUENCE:0
SUMMARY:High Fade: Twice as Nice Tour
UID:489059d1-8d34-49b1-8996-9be487b5dd41
URL:https://events.org/e/High-Fade-Twice-as-Nice-Tour/T22ABMN3
BEGIN:VALARM
ACTION:DISPLAY
SUMMARY:Reminder
TRIGGER:-P1D
END:VALARM
END:VEVENT
END:VCALENDAR
