BEGIN:VCALENDAR
METHOD:REQUEST
PRODID:-//events.orgNONSGML ical.net 4.0//EN
VERSION:2.0
BEGIN:VEVENT
DTEND;VALUE=DATE:20260502
DTSTAMP:20260421T103559Z
DTSTART;VALUE=DATE:20260502
LOCATION:Saba Surf & Cafe\, Los Angeles
ORGANIZER;CN=:mailto:events@events.org
SEQUENCE:0
SUMMARY:Vino Y Vinyl
UID:4c3446a9-135e-4f75-bfd6-a16ab4b5719e
URL:https://events.org/e/Vino-Y-Vinyl/LBMDOXLD
BEGIN:VALARM
ACTION:DISPLAY
SUMMARY:Reminder
TRIGGER:-P1D
END:VALARM
END:VEVENT
END:VCALENDAR
