BEGIN:VCALENDAR
METHOD:REQUEST
PRODID:-//events.orgNONSGML ical.net 4.0//EN
VERSION:2.0
BEGIN:VEVENT
DTEND;VALUE=DATE:20260524
DTSTAMP:20260421T145126Z
DTSTART;VALUE=DATE:20260524
LOCATION:Clock-Out Lounge\, Seattle
ORGANIZER;CN=:mailto:events@events.org
SEQUENCE:0
SUMMARY:Raised By TV Events Presents: all ages K-POP Demon Hunters Trivia 
 Night
UID:8bb68071-5501-4564-a7b4-6ebf5d79b0b4
URL:https://events.org/e/Raised-By-TV-Events-Presents-all-ages-K-POP-D/SDY
 SM6MB
BEGIN:VALARM
ACTION:DISPLAY
SUMMARY:Reminder
TRIGGER:-P1D
END:VALARM
END:VEVENT
END:VCALENDAR
