BEGIN:VCALENDAR
METHOD:REQUEST
PRODID:-//events.orgNONSGML ical.net 4.0//EN
VERSION:2.0
BEGIN:VEVENT
DTEND;VALUE=DATE:20260609
DTSTAMP:20260421T103900Z
DTSTART;VALUE=DATE:20260609
LOCATION:Bellco Theatre\, Denver
ORGANIZER;CN=:mailto:events@events.org
SEQUENCE:0
SUMMARY:Ringo Starr & His All Starr Band
UID:1eb31bea-46a9-4f45-9637-8b6baceb67e8
URL:https://events.org/e/Ringo-Starr-His-All-Starr-Band/Y6Q5Q42C
BEGIN:VALARM
ACTION:DISPLAY
SUMMARY:Reminder
TRIGGER:-P1D
END:VALARM
END:VEVENT
END:VCALENDAR
