BEGIN:VCALENDAR
METHOD:REQUEST
PRODID:-//events.orgNONSGML ical.net 4.0//EN
VERSION:2.0
BEGIN:VEVENT
DTEND;VALUE=DATE:20260915
DTSTAMP:20260422T092340Z
DTSTART;VALUE=DATE:20260915
LOCATION:The Fillmore Philadelphia\, Philadelphia
ORGANIZER;CN=:mailto:events@events.org
SEQUENCE:0
SUMMARY:Circa Survive
UID:37742d27-b1dd-41fc-987d-7a3e4c7033f0
URL:https://events.org/e/Circa-Survive/R5OEV88S
BEGIN:VALARM
ACTION:DISPLAY
SUMMARY:Reminder
TRIGGER:-P1D
END:VALARM
END:VEVENT
END:VCALENDAR
