BEGIN:VCALENDAR
METHOD:REQUEST
PRODID:-//events.orgNONSGML ical.net 4.0//EN
VERSION:2.0
BEGIN:VEVENT
DTEND;VALUE=DATE:20260709
DTSTAMP:20260421T133120Z
DTSTART;VALUE=DATE:20260709
LOCATION:Viejas Arena at Aztec Bowl San Diego State University\, San Diego
ORGANIZER;CN=:mailto:events@events.org
SEQUENCE:0
SUMMARY:5 Seconds of Summer: EVERYONE'S A STAR! World Tour
UID:7772a00c-1354-40ae-a4e8-02b42ce98632
URL:https://events.org/e/5-Seconds-of-Summer-EVERYONES-A-STAR-World-Tour/P
 QCVEBSK
BEGIN:VALARM
ACTION:DISPLAY
SUMMARY:Reminder
TRIGGER:-P1D
END:VALARM
END:VEVENT
END:VCALENDAR
