BEGIN:VCALENDAR
METHOD:REQUEST
PRODID:-//events.orgNONSGML ical.net 4.0//EN
VERSION:2.0
BEGIN:VEVENT
DTEND;VALUE=DATE:20260621
DTSTAMP:20260421T103558Z
DTSTART;VALUE=DATE:20260621
LOCATION:Petco Park\, San Diego
ORGANIZER;CN=:mailto:events@events.org
SEQUENCE:0
SUMMARY:Madison Beer: the locket tour
UID:4a81892f-d701-48ca-8ab0-56f0d695e7cc
URL:https://events.org/e/Madison-Beer-the-locket-tour/HBWT7BDU
BEGIN:VALARM
ACTION:DISPLAY
SUMMARY:Reminder
TRIGGER:-P1D
END:VALARM
END:VEVENT
END:VCALENDAR
