BEGIN:VCALENDAR
METHOD:REQUEST
PRODID:-//events.orgNONSGML ical.net 4.0//EN
VERSION:2.0
BEGIN:VEVENT
DTEND;VALUE=DATE:20260909
DTSTAMP:20260421T082458Z
DTSTART;VALUE=DATE:20260909
LOCATION:Walter Studios\, Phoenix
ORGANIZER;CN=:mailto:events@events.org
SEQUENCE:0
SUMMARY:Sub Urban
UID:d68878e6-c5cd-43a2-bdda-33a0752e71fe
URL:https://events.org/e/Sub-Urban/4JR73FTL
BEGIN:VALARM
ACTION:DISPLAY
SUMMARY:Reminder
TRIGGER:-P1D
END:VALARM
END:VEVENT
END:VCALENDAR
