BEGIN:VCALENDAR
METHOD:REQUEST
PRODID:-//events.orgNONSGML ical.net 4.0//EN
VERSION:2.0
BEGIN:VEVENT
DTEND;VALUE=DATE:20260614
DTSTAMP:20260421T095436Z
DTSTART;VALUE=DATE:20260614
LOCATION:The Foundry\, Philadelphia
ORGANIZER;CN=:mailto:events@events.org
SEQUENCE:0
SUMMARY:Kelsy Karter & The Heroines: The Pleasure Tour
UID:f90e4ef8-12e0-4f80-a826-cb20c147469e
URL:https://events.org/e/Kelsy-Karter-The-Heroines-The-Pleasure-Tour/UIK7E
 67V
BEGIN:VALARM
ACTION:DISPLAY
SUMMARY:Reminder
TRIGGER:-P1D
END:VALARM
END:VEVENT
END:VCALENDAR
