BEGIN:VCALENDAR
METHOD:REQUEST
PRODID:-//events.orgNONSGML ical.net 4.0//EN
VERSION:2.0
BEGIN:VEVENT
DTEND;VALUE=DATE:20260702
DTSTAMP:20260421T104513Z
DTSTART;VALUE=DATE:20260702
LOCATION:Coors Field\, Denver
ORGANIZER;CN=:mailto:events@events.org
SEQUENCE:0
SUMMARY:Colorado Rockies vs. Miami Marlins
UID:13512194-0fcb-4a2f-9a3c-30eef1b902c7
URL:https://events.org/e/Colorado-Rockies-vs-Miami-Marlins/QBNUU3XF
BEGIN:VALARM
ACTION:DISPLAY
SUMMARY:Reminder
TRIGGER:-P1D
END:VALARM
END:VEVENT
END:VCALENDAR
