BEGIN:VCALENDAR
METHOD:REQUEST
PRODID:-//events.orgNONSGML ical.net 4.0//EN
VERSION:2.0
BEGIN:VEVENT
DTEND;VALUE=DATE:20260523
DTSTAMP:20260422T090541Z
DTSTART;VALUE=DATE:20260523
LOCATION:Reggies Music Joint\, Chicago
ORGANIZER;CN=:mailto:events@events.org
SEQUENCE:0
SUMMARY:The BishopâS Daredevil Stunt Club: Record Release Show
UID:1abba07e-5ad3-41c6-9800-d64aaf99e7c2
URL:https://events.org/e/The-BishopaS-Daredevil-Stunt-Club-Record-Rele/KRI
 EJAI6
BEGIN:VALARM
ACTION:DISPLAY
SUMMARY:Reminder
TRIGGER:-P1D
END:VALARM
END:VEVENT
END:VCALENDAR
