BEGIN:VCALENDAR
METHOD:REQUEST
PRODID:-//events.orgNONSGML ical.net 4.0//EN
VERSION:2.0
BEGIN:VEVENT
DTEND;VALUE=DATE:20261113
DTSTAMP:20260421T082140Z
DTSTART;VALUE=DATE:20261113
LOCATION:Majestic Theatre Dallas\, Dallas
ORGANIZER;CN=:mailto:events@events.org
SEQUENCE:0
SUMMARY:Michael Blaustein: The Taste Me Tour: The Final Leg
UID:164e4d82-ab3c-4706-b043-886e45cdb130
URL:https://events.org/e/Michael-Blaustein-The-Taste-Me-Tour-The-Final-Leg
 /YYWA6GME
BEGIN:VALARM
ACTION:DISPLAY
SUMMARY:Reminder
TRIGGER:-P1D
END:VALARM
END:VEVENT
END:VCALENDAR
