BEGIN:VCALENDAR
METHOD:REQUEST
PRODID:-//events.orgNONSGML ical.net 4.0//EN
VERSION:2.0
BEGIN:VEVENT
DTEND;VALUE=DATE:20260423
DTSTAMP:20260422T092000Z
DTSTART;VALUE=DATE:20260423
LOCATION:Gramercy Theatre\, New York
ORGANIZER;CN=:mailto:events@events.org
SEQUENCE:0
SUMMARY:Melrose Avenue
UID:4d756ce0-31b1-4df2-9368-11c11aa9baf7
URL:https://events.org/e/Melrose-Avenue/IK7MJ693
BEGIN:VALARM
ACTION:DISPLAY
SUMMARY:Reminder
TRIGGER:-P1D
END:VALARM
END:VEVENT
END:VCALENDAR
