BEGIN:VCALENDAR
METHOD:REQUEST
PRODID:-//events.orgNONSGML ical.net 4.0//EN
VERSION:2.0
BEGIN:VEVENT
DTEND;VALUE=DATE:20260530
DTSTAMP:20260421T103725Z
DTSTART;VALUE=DATE:20260530
LOCATION:Bayou Music Center\, Houston
ORGANIZER;CN=:mailto:events@events.org
SEQUENCE:0
SUMMARY:Pour Minds Podcast: Still Sippin' Tour
UID:eb082daf-7732-4a0a-a708-2ec4f4fc5d85
URL:https://events.org/e/Pour-Minds-Podcast-Still-Sippin-Tour/A94YVF83
BEGIN:VALARM
ACTION:DISPLAY
SUMMARY:Reminder
TRIGGER:-P1D
END:VALARM
END:VEVENT
END:VCALENDAR
