BEGIN:VCALENDAR
METHOD:REQUEST
PRODID:-//events.orgNONSGML ical.net 4.0//EN
VERSION:2.0
BEGIN:VEVENT
DTEND;VALUE=DATE:20260526
DTSTAMP:20260424T080914Z
DTSTART;VALUE=DATE:20260526
LOCATION:Second City-Chicago: Mainstage\, Chicago
ORGANIZER;CN=:mailto:events@events.org
SEQUENCE:0
SUMMARY:The Second City Mainstage 114th Revue (Minors must be accompanied 
 by an adult)
UID:31da6e47-7494-419d-9988-7ddbecc60d01
URL:https://events.org/e/The-Second-City-Mainstage-114th-Revue-Minors/8AO2
 QQHU
BEGIN:VALARM
ACTION:DISPLAY
SUMMARY:Reminder
TRIGGER:-P1D
END:VALARM
END:VEVENT
END:VCALENDAR
