BEGIN:VCALENDAR
METHOD:REQUEST
PRODID:-//events.orgNONSGML ical.net 4.0//EN
VERSION:2.0
BEGIN:VEVENT
DTEND;VALUE=DATE:20260426
DTSTAMP:20260423T171746Z
DTSTART;VALUE=DATE:20260426
LOCATION:BMO Stadium\, Los Angeles
ORGANIZER;CN=:mailto:events@events.org
SEQUENCE:0
SUMMARY:Angel City FC vs. Portland Thorns
UID:a9f760e4-dde0-4719-9e4c-d28abd3fd05d
URL:https://events.org/e/Angel-City-FC-vs-Portland-Thorns/KIN7FP5R
BEGIN:VALARM
ACTION:DISPLAY
SUMMARY:Reminder
TRIGGER:-P1D
END:VALARM
END:VEVENT
END:VCALENDAR
