BEGIN:VCALENDAR
METHOD:REQUEST
PRODID:-//events.orgNONSGML ical.net 4.0//EN
VERSION:2.0
BEGIN:VEVENT
DTEND;VALUE=DATE:20260919
DTSTAMP:20260422T091151Z
DTSTART;VALUE=DATE:20260919
LOCATION:Miller Theater-PA\, Philadelphia
ORGANIZER;CN=:mailto:events@events.org
SEQUENCE:0
SUMMARY:Pat Metheny
UID:7d028070-991b-4714-9f4b-ae1b4186a691
URL:https://events.org/e/Pat-Metheny/KKJ4OGWF
BEGIN:VALARM
ACTION:DISPLAY
SUMMARY:Reminder
TRIGGER:-P1D
END:VALARM
END:VEVENT
END:VCALENDAR
