BEGIN:VCALENDAR
METHOD:REQUEST
PRODID:-//events.orgNONSGML ical.net 4.0//EN
VERSION:2.0
BEGIN:VEVENT
DTEND;VALUE=DATE:20260404
DTSTAMP:20260422T091217Z
DTSTART;VALUE=DATE:20260404
LOCATION:The Regent Theater\, Los Angeles
ORGANIZER;CN=:mailto:events@events.org
SEQUENCE:0
SUMMARY:Upsell - Mezzanine Bleachers - Pity Party (girls Club) - Not A Tic
 ket
UID:a4f42ad4-caf5-482f-91c6-b03458a9f725
URL:https://events.org/e/Upsell---Mezzanine-Bleachers---Pity-Party-gir/ONJ
 WJV8P
BEGIN:VALARM
ACTION:DISPLAY
SUMMARY:Reminder
TRIGGER:-P1D
END:VALARM
END:VEVENT
END:VCALENDAR
