BEGIN:VCALENDAR
METHOD:REQUEST
PRODID:-//events.orgNONSGML ical.net 4.0//EN
VERSION:2.0
BEGIN:VEVENT
DTEND;VALUE=DATE:20260520
DTSTAMP:20260422T090230Z
DTSTART;VALUE=DATE:20260520
LOCATION:Greek Theatre\, Los Angeles
ORGANIZER;CN=:mailto:events@events.org
SEQUENCE:0
SUMMARY:Russell Dickerson
UID:abca26b6-7990-4f1c-812d-149a321b5567
URL:https://events.org/e/Russell-Dickerson/QVWAQEBC
BEGIN:VALARM
ACTION:DISPLAY
SUMMARY:Reminder
TRIGGER:-P1D
END:VALARM
END:VEVENT
END:VCALENDAR
