BEGIN:VCALENDAR
METHOD:REQUEST
PRODID:-//events.orgNONSGML ical.net 4.0//EN
VERSION:2.0
BEGIN:VEVENT
DTEND;VALUE=DATE:20260622
DTSTAMP:20260421T104012Z
DTSTART;VALUE=DATE:20260622
LOCATION:Fillmore Auditorium (Denver)\, Denver
ORGANIZER;CN=:mailto:events@events.org
SEQUENCE:0
SUMMARY:Dance Gavin Dance with Special Guests
UID:c904ade2-67bf-4472-9d19-e1cb17ce1d35
URL:https://events.org/e/Dance-Gavin-Dance-with-Special-Guests/3S2JHMH6
BEGIN:VALARM
ACTION:DISPLAY
SUMMARY:Reminder
TRIGGER:-P1D
END:VALARM
END:VEVENT
END:VCALENDAR
