BEGIN:VCALENDAR
METHOD:REQUEST
PRODID:-//events.orgNONSGML ical.net 4.0//EN
VERSION:2.0
BEGIN:VEVENT
DTEND;VALUE=DATE:20260423
DTSTAMP:20260422T090446Z
DTSTART;VALUE=DATE:20260423
LOCATION:Birdland Theater\, New York
ORGANIZER;CN=:mailto:events@events.org
SEQUENCE:0
SUMMARY:The High Society New Orleans Jazz Band
UID:3093db12-0102-4f0a-ae4d-9875a22a0fba
URL:https://events.org/e/The-High-Society-New-Orleans-Jazz-Band/XXBM6PNH
BEGIN:VALARM
ACTION:DISPLAY
SUMMARY:Reminder
TRIGGER:-P1D
END:VALARM
END:VEVENT
END:VCALENDAR
