BEGIN:VCALENDAR
METHOD:REQUEST
PRODID:-//events.orgNONSGML ical.net 4.0//EN
VERSION:2.0
BEGIN:VEVENT
DTEND;VALUE=DATE:20260630
DTSTAMP:20260421T094507Z
DTSTART;VALUE=DATE:20260630
LOCATION:Leader Bank Pavilion\, Boston
ORGANIZER;CN=:mailto:events@events.org
SEQUENCE:0
SUMMARY:An Evening With Goose
UID:2bb6041c-0a7f-41ad-9559-1a534aeb4163
URL:https://events.org/e/An-Evening-With-Goose/PFHHBIPN
BEGIN:VALARM
ACTION:DISPLAY
SUMMARY:Reminder
TRIGGER:-P1D
END:VALARM
END:VEVENT
END:VCALENDAR
