BEGIN:VCALENDAR
METHOD:REQUEST
PRODID:-//events.orgNONSGML ical.net 4.0//EN
VERSION:2.0
BEGIN:VEVENT
DTEND;VALUE=DATE:20260623
DTSTAMP:20260421T094813Z
DTSTART;VALUE=DATE:20260623
LOCATION:Crescent Ballroom\, Phoenix
ORGANIZER;CN=:mailto:events@events.org
SEQUENCE:0
SUMMARY:AARON HIBELL
UID:22ed82e9-9ffc-4d59-83ac-74788adff6ac
URL:https://events.org/e/AARON-HIBELL/A6LEFCMO
BEGIN:VALARM
ACTION:DISPLAY
SUMMARY:Reminder
TRIGGER:-P1D
END:VALARM
END:VEVENT
END:VCALENDAR
