BEGIN:VCALENDAR
METHOD:REQUEST
PRODID:-//events.orgNONSGML ical.net 4.0//EN
VERSION:2.0
BEGIN:VEVENT
DTEND;VALUE=DATE:20260515
DTSTAMP:20260422T084830Z
DTSTART;VALUE=DATE:20260515
LOCATION:Chop Suey\, Seattle
ORGANIZER;CN=:mailto:events@events.org
SEQUENCE:0
SUMMARY:90s & 2000s LEGENDZ: A RETRO DANCE PARTY
UID:52479e66-be25-473d-859e-6ca5405389ae
URL:https://events.org/e/90s-2000s-LEGENDZ-A-RETRO-DANCE-PARTY/8CNAEF6S
BEGIN:VALARM
ACTION:DISPLAY
SUMMARY:Reminder
TRIGGER:-P1D
END:VALARM
END:VEVENT
END:VCALENDAR
