BEGIN:VCALENDAR
METHOD:REQUEST
PRODID:-//events.orgNONSGML ical.net 4.0//EN
VERSION:2.0
BEGIN:VEVENT
DTEND;VALUE=DATE:20260506
DTSTAMP:20260421T094757Z
DTSTART;VALUE=DATE:20260506
LOCATION:Teragram Ballroom\, Los Angeles
ORGANIZER;CN=:mailto:events@events.org
SEQUENCE:0
SUMMARY:Saults
UID:f365b264-3d45-4b41-b872-4ecb5ead4a01
URL:https://events.org/e/Saults/ECQ3T9YL
BEGIN:VALARM
ACTION:DISPLAY
SUMMARY:Reminder
TRIGGER:-P1D
END:VALARM
END:VEVENT
END:VCALENDAR
