BEGIN:VCALENDAR
METHOD:REQUEST
PRODID:-//events.orgNONSGML ical.net 4.0//EN
VERSION:2.0
BEGIN:VEVENT
DTEND;VALUE=DATE:20261009
DTSTAMP:20260422T085546Z
DTSTART;VALUE=DATE:20261009
LOCATION:Raymond James Stadium\, Tampa
ORGANIZER;CN=:mailto:events@events.org
SEQUENCE:0
SUMMARY:KAROL G - VIAJANDO POR EL MUNDO TROPITOUR
UID:884efeb1-5798-4739-b08f-ccd4785cbec7
URL:https://events.org/e/KAROL-G---VIAJANDO-POR-EL-MUNDO-TROPITOUR/FMXG463Y
BEGIN:VALARM
ACTION:DISPLAY
SUMMARY:Reminder
TRIGGER:-P1D
END:VALARM
END:VEVENT
END:VCALENDAR
