BEGIN:VCALENDAR
METHOD:REQUEST
PRODID:-//events.orgNONSGML ical.net 4.0//EN
VERSION:2.0
BEGIN:VEVENT
DTEND;VALUE=DATE:20260515
DTSTAMP:20260424T092425Z
DTSTART;VALUE=DATE:20260515
LOCATION:Walter WhereHouse\, Phoenix
ORGANIZER;CN=:mailto:events@events.org
SEQUENCE:0
SUMMARY:Mall Grab & Effy (21+)
UID:447e6caf-660d-4f4b-a19c-c2bcfdd57b03
URL:https://events.org/e/Mall-Grab-Effy-21/GQY2DAFW
BEGIN:VALARM
ACTION:DISPLAY
SUMMARY:Reminder
TRIGGER:-P1D
END:VALARM
END:VEVENT
END:VCALENDAR
