BEGIN:VCALENDAR
METHOD:REQUEST
PRODID:-//events.orgNONSGML ical.net 4.0//EN
VERSION:2.0
BEGIN:VEVENT
DTEND;VALUE=DATE:20260606
DTSTAMP:20260421T082223Z
DTSTART;VALUE=DATE:20260606
LOCATION:House of Blues Dallas \, Dallas
ORGANIZER;CN=:mailto:events@events.org
SEQUENCE:0
SUMMARY:Queen and King of Reality Show\, Nene Leakes and Carlos King LIVE!
  18+
UID:5807f244-5610-4e26-8459-285290d06755
URL:https://events.org/e/Queen-and-King-of-Reality-Show-Nene-Leakes-an/KLW
 KUO9D
BEGIN:VALARM
ACTION:DISPLAY
SUMMARY:Reminder
TRIGGER:-P1D
END:VALARM
END:VEVENT
END:VCALENDAR
