BEGIN:VCALENDAR
METHOD:REQUEST
PRODID:-//events.orgNONSGML ical.net 4.0//EN
VERSION:2.0
BEGIN:VEVENT
DTEND;VALUE=DATE:20260708
DTSTAMP:20260424T092617Z
DTSTART;VALUE=DATE:20260708
LOCATION:Clock-Out Lounge\, Seattle
ORGANIZER;CN=:mailto:events@events.org
SEQUENCE:0
SUMMARY:Emmett Montgomery and Brett Hamil Present: Joketellers Union
UID:a6bf5c47-2773-435f-b0f9-26938c709338
URL:https://events.org/e/Emmett-Montgomery-and-Brett-Hamil-Present-Jok/HYJ
 MX8LP
BEGIN:VALARM
ACTION:DISPLAY
SUMMARY:Reminder
TRIGGER:-P1D
END:VALARM
END:VEVENT
END:VCALENDAR
