BEGIN:VCALENDAR
METHOD:REQUEST
PRODID:-//events.orgNONSGML ical.net 4.0//EN
VERSION:2.0
BEGIN:VEVENT
DTEND;VALUE=DATE:20260424
DTSTAMP:20260422T091705Z
DTSTART;VALUE=DATE:20260424
LOCATION:Westside Theatre Upstairs - NY\, New York
ORGANIZER;CN=:mailto:events@events.org
SEQUENCE:0
SUMMARY:Little Shop of Horrors
UID:f54ca1f2-3fe0-45b6-ac4e-c6f83c3b163e
URL:https://events.org/e/Little-Shop-of-Horrors/N8UADTE9
BEGIN:VALARM
ACTION:DISPLAY
SUMMARY:Reminder
TRIGGER:-P1D
END:VALARM
END:VEVENT
END:VCALENDAR
